BEGIN:VCALENDAR
VERSION:2.0
PRODID:-//LEO Network//Training Calendar//EN
BEGIN:VEVENT
UID:event-4323@leo-network.com
DTSTAMP:20260421T130524Z
DTSTART:20240328T150000Z
DTEND:20240330T000000Z
SUMMARY:Advanced Roadside Impaired Driving Enforcement
DESCRIPTION:Law Enforcement Training
Hosted by: Institute of Police Technology and Management (IPTM)

View event details:
https://www.leo-network.com/event/advanced-roadside-impaired-driving-enforcement-cape-coral-fl-4323/
LOCATION:Cape Coral, FL
URL:https://www.leo-network.com/event/advanced-roadside-impaired-driving-enforcement-cape-coral-fl-4323/
END:VEVENT
END:VCALENDAR
