BEGIN:VCALENDAR
VERSION:2.0
PRODID:-//LEO Network//Training Calendar//EN
BEGIN:VEVENT
UID:event-4327@leo-network.com
DTSTAMP:20260424T183050Z
DTSTART:20240624T150000Z
DTEND:20240629T000000Z
SUMMARY:Pedestrian/Bicycle Crash Investigation - Level I
DESCRIPTION:Law Enforcement Training
Hosted by: Institute of Police Technology and Management (IPTM)

View event details:
https://www.leo-network.com/event/pedestrian-bicycle-crash-investigation-level-i-irvine-ca-4327/
LOCATION:Irvine, CA
URL:https://www.leo-network.com/event/pedestrian-bicycle-crash-investigation-level-i-irvine-ca-4327/
END:VEVENT
END:VCALENDAR
