BEGIN:VCALENDAR
VERSION:2.0
PRODID:-//LEO Network//Training Calendar//EN
BEGIN:VEVENT
UID:event-4330@leo-network.com
DTSTAMP:20260424T184231Z
DTSTART:20240715T150000Z
DTEND:20240720T000000Z
SUMMARY:Investigation of Motorcycle Crashes - Level I
DESCRIPTION:Law Enforcement Training
Hosted by: Institute of Police Technology and Management (IPTM)

View event details:
https://www.leo-network.com/event/investigation-of-motorcycle-crashes-level-i-irvine-ca-4330/
LOCATION:Irvine, CA
URL:https://www.leo-network.com/event/investigation-of-motorcycle-crashes-level-i-irvine-ca-4330/
END:VEVENT
END:VCALENDAR
