BEGIN:VCALENDAR
VERSION:2.0
PRODID:-//LEO Network//Training Calendar//EN
BEGIN:VEVENT
UID:event-4334@leo-network.com
DTSTAMP:20260421T141418Z
DTSTART:20240422T150000Z
DTEND:20240427T000000Z
SUMMARY:Pedestrian/Bicycle Crash Investigation - Level II
DESCRIPTION:Law Enforcement Training
Hosted by: Institute of Police Technology and Management (IPTM)

View event details:
https://www.leo-network.com/event/pedestrian-bicycle-crash-investigation-level-ii-largo-fl-4334/
LOCATION:Largo, FL
URL:https://www.leo-network.com/event/pedestrian-bicycle-crash-investigation-level-ii-largo-fl-4334/
END:VEVENT
END:VCALENDAR
