BEGIN:VCALENDAR
VERSION:2.0
PRODID:-//LEO Network//Training Calendar//EN
BEGIN:VEVENT
UID:event-4335@leo-network.com
DTSTAMP:20260424T124409Z
DTSTART:20240805T150000Z
DTEND:20240806T000000Z
SUMMARY:Auto Theft & Vehicle Crimes 
DESCRIPTION:Law Enforcement Training
Hosted by: Underworld LLC

View event details:
https://www.leo-network.com/event/auto-theft-vehicle-crimes-san-diego-ca-4335/
LOCATION:San Diego, CA
URL:https://www.leo-network.com/event/auto-theft-vehicle-crimes-san-diego-ca-4335/
END:VEVENT
END:VCALENDAR
