BEGIN:VCALENDAR
VERSION:2.0
PRODID:-//LEO Network//Training Calendar//EN
BEGIN:VEVENT
UID:event-4338@leo-network.com
DTSTAMP:20260421T141432Z
DTSTART:20240311T150000Z
DTEND:20240316T000000Z
SUMMARY:Digital Photography for Traffic Crash Investigators 
DESCRIPTION:Law Enforcement Training
Hosted by: Institute of Police Technology and Management (IPTM)

View event details:
https://www.leo-network.com/event/digital-photography-for-traffic-crash-investigators-miami-fl-4338/
LOCATION:Miami, FL
URL:https://www.leo-network.com/event/digital-photography-for-traffic-crash-investigators-miami-fl-4338/
END:VEVENT
END:VCALENDAR
