BEGIN:VCALENDAR
VERSION:2.0
PRODID:-//LEO Network//Training Calendar//EN
BEGIN:VEVENT
UID:event-4346@leo-network.com
DTSTAMP:20260421T140421Z
DTSTART:20240429T150000Z
DTEND:20240402T000000Z
SUMMARY:Medical Foundations of Visual Systems Testing  
DESCRIPTION:Law Enforcement Training
Hosted by: Institute of Police Technology and Management (IPTM)

View event details:
https://www.leo-network.com/event/medical-foundations-of-visual-systems-testing-miami-fl-4346/
LOCATION:Miami, FL
URL:https://www.leo-network.com/event/medical-foundations-of-visual-systems-testing-miami-fl-4346/
END:VEVENT
END:VCALENDAR
