BEGIN:VCALENDAR
VERSION:2.0
PRODID:-//LEO Network//Training Calendar//EN
BEGIN:VEVENT
UID:event-4355@leo-network.com
DTSTAMP:20260425T212245Z
DTSTART:20240123T160000Z
DTEND:20240124T010000Z
SUMMARY:Dynamic Testimony: Elevating LE Presence in the Courtroom
DESCRIPTION:Law Enforcement Training
Hosted by: J Harris Academy of Police Training

View event details:
https://www.leo-network.com/event/dynamic-testimony-elevating-le-presence-in-the-courtroom-hudson-county-nj-4355/
LOCATION:Hudson County, NJ
URL:https://www.leo-network.com/event/dynamic-testimony-elevating-le-presence-in-the-courtroom-hudson-county-nj-4355/
END:VEVENT
END:VCALENDAR
