BEGIN:VCALENDAR
VERSION:2.0
PRODID:-//LEO Network//Training Calendar//EN
BEGIN:VEVENT
UID:event-4391@leo-network.com
DTSTAMP:20260422T155055Z
DTSTART:20240715T150000Z
DTEND:20240718T000000Z
SUMMARY:Field Training Officer
DESCRIPTION:Law Enforcement Training
Hosted by: Institute of Police Technology and Management (IPTM)

View event details:
https://www.leo-network.com/event/field-training-officer-nicholsville-ky-4391/
LOCATION:Nicholsville, KY
URL:https://www.leo-network.com/event/field-training-officer-nicholsville-ky-4391/
END:VEVENT
END:VCALENDAR
