BEGIN:VCALENDAR
VERSION:2.0
PRODID:-//LEO Network//Training Calendar//EN
BEGIN:VEVENT
UID:event-4411@leo-network.com
DTSTAMP:20260421T141432Z
DTSTART:20240415T150000Z
DTEND:20240416T000000Z
SUMMARY:New Trends in Mapping  and Obtaining Location Data for Police
DESCRIPTION:Law Enforcement Training
Hosted by: Badge Apps LLC

View event details:
https://www.leo-network.com/event/new-trends-in-mapping-and-obtaining-location-data-for-police-west-palm-beach-fl-4411/
LOCATION:West Palm Beach, FL
URL:https://www.leo-network.com/event/new-trends-in-mapping-and-obtaining-location-data-for-police-west-palm-beach-fl-4411/
END:VEVENT
END:VCALENDAR
