BEGIN:VCALENDAR
VERSION:2.0
PRODID:-//LEO Network//Training Calendar//EN
BEGIN:VEVENT
UID:event-4455@leo-network.com
DTSTAMP:20260422T144520Z
DTSTART:20240430T150000Z
DTEND:20240402T000000Z
SUMMARY:Extracting the Truth: Advanced Interview and Interrogations 
DESCRIPTION:Law Enforcement Training
Hosted by: Advanced Police Concepts

View event details:
https://www.leo-network.com/event/extracting-the-truth-advanced-interview-and-interrogations-springfield-mo-4455/
LOCATION:Springfield, MO
URL:https://www.leo-network.com/event/extracting-the-truth-advanced-interview-and-interrogations-springfield-mo-4455/
END:VEVENT
END:VCALENDAR
