BEGIN:VCALENDAR
VERSION:2.0
PRODID:-//LEO Network//Training Calendar//EN
BEGIN:VEVENT
UID:event-4463@leo-network.com
DTSTAMP:20260423T035132Z
DTSTART:20240416T150000Z
DTEND:20240417T000000Z
SUMMARY:Criminal Interviewing for Road Patrol Officers
DESCRIPTION:Law Enforcement Training
Hosted by: Advanced Police Concepts

View event details:
https://www.leo-network.com/event/criminal-interviewing-for-road-patrol-officers-hanover-nh-4463/
LOCATION:Hanover, NH
URL:https://www.leo-network.com/event/criminal-interviewing-for-road-patrol-officers-hanover-nh-4463/
END:VEVENT
END:VCALENDAR
