BEGIN:VCALENDAR
VERSION:2.0
PRODID:-//LEO Network//Training Calendar//EN
BEGIN:VEVENT
UID:event-4478@leo-network.com
DTSTAMP:20260422T144534Z
DTSTART:20240425T150000Z
DTEND:20240427T000000Z
SUMMARY:Human Trafficking Investigations Course
DESCRIPTION:Law Enforcement Training
Hosted by: Advanced Police Concepts

View event details:
https://www.leo-network.com/event/human-trafficking-investigations-course-springfield-mo-4478/
LOCATION:Springfield, MO
URL:https://www.leo-network.com/event/human-trafficking-investigations-course-springfield-mo-4478/
END:VEVENT
END:VCALENDAR
