BEGIN:VCALENDAR
VERSION:2.0
PRODID:-//LEO Network//Training Calendar//EN
BEGIN:VEVENT
UID:event-452@leo-network.com
DTSTAMP:20260421T050614Z
DTSTART:20230406T150000Z
DTEND:20230407T000000Z
SUMMARY:Emerging Legal Trends
DESCRIPTION:Law Enforcement Training
Hosted by: Blue to Gold Training

View event details:
https://www.leo-network.com/event/emerging-legal-trends-castle-rock-co-452/
LOCATION:Castle Rock, CO
URL:https://www.leo-network.com/event/emerging-legal-trends-castle-rock-co-452/
END:VEVENT
END:VCALENDAR
