BEGIN:VCALENDAR
VERSION:2.0
PRODID:-//LEO Network//Training Calendar//EN
BEGIN:VEVENT
UID:event-454@leo-network.com
DTSTAMP:20260421T051351Z
DTSTART:20230407T150000Z
DTEND:20230408T000000Z
SUMMARY:Advanced Interview & Interrogation
DESCRIPTION:Law Enforcement Training
Hosted by: Blue to Gold Training

View event details:
https://www.leo-network.com/event/advanced-interview-interrogation-castle-rock-co-454/
LOCATION:Castle Rock, CO
URL:https://www.leo-network.com/event/advanced-interview-interrogation-castle-rock-co-454/
END:VEVENT
END:VCALENDAR
