BEGIN:VCALENDAR
VERSION:2.0
PRODID:-//LEO Network//Training Calendar//EN
BEGIN:VEVENT
UID:event-4550@leo-network.com
DTSTAMP:20260421T202446Z
DTSTART:20240206T160000Z
DTEND:20240207T010000Z
SUMMARY:IP, App and Internet Investigations for Police
DESCRIPTION:Law Enforcement Training
Hosted by: Badge Apps LLC

View event details:
https://www.leo-network.com/event/ip-app-and-internet-investigations-for-police-dallas-tx-4550/
LOCATION:Dallas, TX
URL:https://www.leo-network.com/event/ip-app-and-internet-investigations-for-police-dallas-tx-4550/
END:VEVENT
END:VCALENDAR
