BEGIN:VCALENDAR
VERSION:2.0
PRODID:-//LEO Network//Training Calendar//EN
BEGIN:VEVENT
UID:event-4574@leo-network.com
DTSTAMP:20260422T172946Z
DTSTART:20240426T150000Z
DTEND:20240428T000000Z
SUMMARY:CQB Lab 1
DESCRIPTION:Law Enforcement Training
Hosted by: Paratus Forty-Six, LLC

View event details:
https://www.leo-network.com/event/cqb-lab-1-pawnee-ok-4574/
LOCATION:Pawnee, OK
URL:https://www.leo-network.com/event/cqb-lab-1-pawnee-ok-4574/
END:VEVENT
END:VCALENDAR
