BEGIN:VCALENDAR
VERSION:2.0
PRODID:-//LEO Network//Training Calendar//EN
BEGIN:VEVENT
UID:event-4578@leo-network.com
DTSTAMP:20260422T143229Z
DTSTART:20241029T150000Z
DTEND:20241030T000000Z
SUMMARY:Cartel Traps
DESCRIPTION:Law Enforcement Training
Hosted by: Cartel Traps

View event details:
https://www.leo-network.com/event/cartel-traps-norman-ok-4578/
LOCATION:Norman, OK
URL:https://www.leo-network.com/event/cartel-traps-norman-ok-4578/
END:VEVENT
END:VCALENDAR
