BEGIN:VCALENDAR
VERSION:2.0
PRODID:-//LEO Network//Training Calendar//EN
BEGIN:VEVENT
UID:event-4579@leo-network.com
DTSTAMP:20260422T172902Z
DTSTART:20241120T160000Z
DTEND:20241121T010000Z
SUMMARY:Cartel Traps
DESCRIPTION:Law Enforcement Training
Hosted by: Cartel Traps

View event details:
https://www.leo-network.com/event/cartel-traps-burleson-tx-4579/
LOCATION:Burleson, TX
URL:https://www.leo-network.com/event/cartel-traps-burleson-tx-4579/
END:VEVENT
END:VCALENDAR
