BEGIN:VCALENDAR
VERSION:2.0
PRODID:-//LEO Network//Training Calendar//EN
BEGIN:VEVENT
UID:event-4604@leo-network.com
DTSTAMP:20260422T132120Z
DTSTART:20241113T160000Z
DTEND:20241114T010000Z
SUMMARY:Body Language for Law Enforcement
DESCRIPTION:Law Enforcement Training
Hosted by: ONEFACE LLC

View event details:
https://www.leo-network.com/event/body-language-for-law-enforcement-cape-coral-fl-4604/
LOCATION:Cape Coral, FL
URL:https://www.leo-network.com/event/body-language-for-law-enforcement-cape-coral-fl-4604/
END:VEVENT
END:VCALENDAR
