BEGIN:VCALENDAR
VERSION:2.0
PRODID:-//LEO Network//Training Calendar//EN
BEGIN:VEVENT
UID:event-4663@leo-network.com
DTSTAMP:20260423T034819Z
DTSTART:20240506T150000Z
DTEND:20240508T000000Z
SUMMARY:Social Media & Open Source Investigations
DESCRIPTION:Law Enforcement Training
Hosted by: Covert Media Consulting LLC

View event details:
https://www.leo-network.com/event/social-media-open-source-investigations-contoocook-nh-4663/
LOCATION:Contoocook, NH
URL:https://www.leo-network.com/event/social-media-open-source-investigations-contoocook-nh-4663/
END:VEVENT
END:VCALENDAR
