BEGIN:VCALENDAR
VERSION:2.0
PRODID:-//LEO Network//Training Calendar//EN
BEGIN:VEVENT
UID:event-4679@leo-network.com
DTSTAMP:20260422T144641Z
DTSTART:20240501T150000Z
DTEND:20240504T000000Z
SUMMARY:Social Media, Open Source & Geofence Investigations
DESCRIPTION:Law Enforcement Training
Hosted by: Covert Media Consulting LLC

View event details:
https://www.leo-network.com/event/social-media-open-source-geofence-investigations-boynton-beach-fl-4679/
LOCATION:Boynton Beach, FL
URL:https://www.leo-network.com/event/social-media-open-source-geofence-investigations-boynton-beach-fl-4679/
END:VEVENT
END:VCALENDAR
