BEGIN:VCALENDAR
VERSION:2.0
PRODID:-//LEO Network//Training Calendar//EN
BEGIN:VEVENT
UID:event-4683@leo-network.com
DTSTAMP:20260423T071611Z
DTSTART:20240509T150000Z
DTEND:20240510T000000Z
SUMMARY:Geofence Investigations
DESCRIPTION:Law Enforcement Training
Hosted by: Covert Media Consulting LLC

View event details:
https://www.leo-network.com/event/geofence-investigations-auburn-al-4683/
LOCATION:Auburn , AL
URL:https://www.leo-network.com/event/geofence-investigations-auburn-al-4683/
END:VEVENT
END:VCALENDAR
