BEGIN:VCALENDAR
VERSION:2.0
PRODID:-//LEO Network//Training Calendar//EN
BEGIN:VEVENT
UID:event-4684@leo-network.com
DTSTAMP:20260422T164503Z
DTSTART:20240510T150000Z
DTEND:20240511T000000Z
SUMMARY:Geofence Investigations
DESCRIPTION:Law Enforcement Training
Hosted by: Covert Media Consulting LLC

View event details:
https://www.leo-network.com/event/geofence-investigations-canton-ga-4684/
LOCATION:Canton, GA
URL:https://www.leo-network.com/event/geofence-investigations-canton-ga-4684/
END:VEVENT
END:VCALENDAR
