BEGIN:VCALENDAR
VERSION:2.0
PRODID:-//LEO Network//Training Calendar//EN
BEGIN:VEVENT
UID:event-4687@leo-network.com
DTSTAMP:20260422T203517Z
DTSTART:20240722T150000Z
DTEND:20240723T000000Z
SUMMARY:Geofence Investigations
DESCRIPTION:Law Enforcement Training
Hosted by: Covert Media Consulting LLC

View event details:
https://www.leo-network.com/event/geofence-investigations-austell-ga-4687/
LOCATION:Austell, GA
URL:https://www.leo-network.com/event/geofence-investigations-austell-ga-4687/
END:VEVENT
END:VCALENDAR
