BEGIN:VCALENDAR
VERSION:2.0
PRODID:-//LEO Network//Training Calendar//EN
BEGIN:VEVENT
UID:event-4689@leo-network.com
DTSTAMP:20260422T155719Z
DTSTART:20240307T160000Z
DTEND:20240308T010000Z
SUMMARY:Social Media Investigations
DESCRIPTION:Law Enforcement Training
Hosted by: Covert Media Consulting LLC

View event details:
https://www.leo-network.com/event/social-media-investigations-wichita-ks-4689/
LOCATION:Wichita, KS
URL:https://www.leo-network.com/event/social-media-investigations-wichita-ks-4689/
END:VEVENT
END:VCALENDAR
