BEGIN:VCALENDAR
VERSION:2.0
PRODID:-//LEO Network//Training Calendar//EN
BEGIN:VEVENT
UID:event-4692@leo-network.com
DTSTAMP:20260425T031555Z
DTSTART:20240621T150000Z
DTEND:20240622T000000Z
SUMMARY:Advanced Online Child Exploitation Investigations 
DESCRIPTION:Law Enforcement Training
Hosted by: Covert Media Consulting LLC

View event details:
https://www.leo-network.com/event/advanced-online-child-exploitation-investigations-newtown-pa-4692/
LOCATION:Newtown, PA
URL:https://www.leo-network.com/event/advanced-online-child-exploitation-investigations-newtown-pa-4692/
END:VEVENT
END:VCALENDAR
