BEGIN:VCALENDAR
VERSION:2.0
PRODID:-//LEO Network//Training Calendar//EN
BEGIN:VEVENT
UID:event-4695@leo-network.com
DTSTAMP:20260422T144640Z
DTSTART:20240408T150000Z
DTEND:20240410T000000Z
SUMMARY:Undercover Online Investigations
DESCRIPTION:Law Enforcement Training
Hosted by: Covert Media Consulting LLC

View event details:
https://www.leo-network.com/event/undercover-online-investigations-boynton-beach-fl-4695/
LOCATION:Boynton Beach, FL
URL:https://www.leo-network.com/event/undercover-online-investigations-boynton-beach-fl-4695/
END:VEVENT
END:VCALENDAR
