BEGIN:VCALENDAR
VERSION:2.0
PRODID:-//LEO Network//Training Calendar//EN
BEGIN:VEVENT
UID:event-4738@leo-network.com
DTSTAMP:20260422T144534Z
DTSTART:20240530T150000Z
DTEND:20240531T000000Z
SUMMARY:Command, Leadership, and Supervision: One Team - One Vision
DESCRIPTION:Law Enforcement Training
Hosted by: J Harris Academy of Police Training

View event details:
https://www.leo-network.com/event/command-leadership-and-supervision-one-team-one-vision-little-silver-nj-4738/
LOCATION:Little Silver, NJ
URL:https://www.leo-network.com/event/command-leadership-and-supervision-one-team-one-vision-little-silver-nj-4738/
END:VEVENT
END:VCALENDAR
