BEGIN:VCALENDAR
VERSION:2.0
PRODID:-//LEO Network//Training Calendar//EN
BEGIN:VEVENT
UID:event-4746@leo-network.com
DTSTAMP:20260421T203411Z
DTSTART:20240819T150000Z
DTEND:20240820T000000Z
SUMMARY:Auto Theft & Vehicle Crimes 
DESCRIPTION:Law Enforcement Training
Hosted by: Underworld LLC

View event details:
https://www.leo-network.com/event/auto-theft-vehicle-crimes-fairfield-ct-4746/
LOCATION:Fairfield, CT
URL:https://www.leo-network.com/event/auto-theft-vehicle-crimes-fairfield-ct-4746/
END:VEVENT
END:VCALENDAR
