BEGIN:VCALENDAR
VERSION:2.0
PRODID:-//LEO Network//Training Calendar//EN
BEGIN:VEVENT
UID:event-4749@leo-network.com
DTSTAMP:20260423T011315Z
DTSTART:20250113T160000Z
DTEND:20250114T010000Z
SUMMARY:Cartel Traps
DESCRIPTION:Law Enforcement Training
Hosted by: Cartel Traps

View event details:
https://www.leo-network.com/event/cartel-traps-nashville-tn-4749/
LOCATION:Nashville, TN
URL:https://www.leo-network.com/event/cartel-traps-nashville-tn-4749/
END:VEVENT
END:VCALENDAR
