BEGIN:VCALENDAR
VERSION:2.0
PRODID:-//LEO Network//Training Calendar//EN
BEGIN:VEVENT
UID:event-4753@leo-network.com
DTSTAMP:20260424T170933Z
DTSTART:20240818T150000Z
DTEND:20240824T000000Z
SUMMARY:2024 National Interdiction Conference
DESCRIPTION:Law Enforcement Training
Hosted by: Desert Snow

View event details:
https://www.leo-network.com/event/2024-national-interdiction-conference-anaheim-ca-4753/
LOCATION:Anaheim, CA
URL:https://www.leo-network.com/event/2024-national-interdiction-conference-anaheim-ca-4753/
END:VEVENT
END:VCALENDAR
