BEGIN:VCALENDAR
VERSION:2.0
PRODID:-//LEO Network//Training Calendar//EN
BEGIN:VEVENT
UID:event-4756@leo-network.com
DTSTAMP:20260422T155056Z
DTSTART:20241118T160000Z
DTEND:20241119T010000Z
SUMMARY:Cartel Traps
DESCRIPTION:Law Enforcement Training
Hosted by: Cartel Traps

View event details:
https://www.leo-network.com/event/cartel-traps-universal-city-tx-4756/
LOCATION:Universal City, TX
URL:https://www.leo-network.com/event/cartel-traps-universal-city-tx-4756/
END:VEVENT
END:VCALENDAR
