BEGIN:VCALENDAR
VERSION:2.0
PRODID:-//LEO Network//Training Calendar//EN
BEGIN:VEVENT
UID:event-4762@leo-network.com
DTSTAMP:20260423T114352Z
DTSTART:20240329T150000Z
DTEND:20240330T000000Z
SUMMARY:Essential  West Virginia Case Law for All Cops by Blue to Gold
DESCRIPTION:Law Enforcement Training
Hosted by: Blue to Gold Training

View event details:
https://www.leo-network.com/event/essential-west-virginia-case-law-for-all-cops-by-blue-to-gold-parkersburg-wv-4762/
LOCATION:Parkersburg, WV
URL:https://www.leo-network.com/event/essential-west-virginia-case-law-for-all-cops-by-blue-to-gold-parkersburg-wv-4762/
END:VEVENT
END:VCALENDAR
