BEGIN:VCALENDAR
VERSION:2.0
PRODID:-//LEO Network//Training Calendar//EN
BEGIN:VEVENT
UID:event-4770@leo-network.com
DTSTAMP:20260422T161444Z
DTSTART:20240417T150000Z
DTEND:20240418T000000Z
SUMMARY:Essential Missouri Case Law for All Cops by Blue to Gold
DESCRIPTION:Law Enforcement Training
Hosted by: Blue to Gold Training

View event details:
https://www.leo-network.com/event/essential-missouri-case-law-for-all-cops-by-blue-to-gold-harrisonville-mo-4770/
LOCATION:Harrisonville, MO
URL:https://www.leo-network.com/event/essential-missouri-case-law-for-all-cops-by-blue-to-gold-harrisonville-mo-4770/
END:VEVENT
END:VCALENDAR
