BEGIN:VCALENDAR
VERSION:2.0
PRODID:-//LEO Network//Training Calendar//EN
BEGIN:VEVENT
UID:event-4771@leo-network.com
DTSTAMP:20260424T201256Z
DTSTART:20240419T150000Z
DTEND:20240420T000000Z
SUMMARY:Essential California Case Law for All Cops by Blue to Gold
DESCRIPTION:Law Enforcement Training
Hosted by: Blue to Gold Training

View event details:
https://www.leo-network.com/event/essential-california-case-law-for-all-cops-by-blue-to-gold-fairfield-ca-4771/
LOCATION:Fairfield, CA
URL:https://www.leo-network.com/event/essential-california-case-law-for-all-cops-by-blue-to-gold-fairfield-ca-4771/
END:VEVENT
END:VCALENDAR
