BEGIN:VCALENDAR
VERSION:2.0
PRODID:-//LEO Network//Training Calendar//EN
BEGIN:VEVENT
UID:event-4775@leo-network.com
DTSTAMP:20260421T152624Z
DTSTART:20240422T150000Z
DTEND:20240423T000000Z
SUMMARY:Crisis Communication: Skills for De-Escalating Encounters by Blue to Gold
DESCRIPTION:Law Enforcement Training
Hosted by: Blue to Gold Training

View event details:
https://www.leo-network.com/event/crisis-communication-skills-for-de-escalating-encounters-by-blue-to-gold-carlisle-pa-4775/
LOCATION:Carlisle, PA
URL:https://www.leo-network.com/event/crisis-communication-skills-for-de-escalating-encounters-by-blue-to-gold-carlisle-pa-4775/
END:VEVENT
END:VCALENDAR
