BEGIN:VCALENDAR
VERSION:2.0
PRODID:-//LEO Network//Training Calendar//EN
BEGIN:VEVENT
UID:event-4795@leo-network.com
DTSTAMP:20260423T100508Z
DTSTART:20240610T150000Z
DTEND:20240611T000000Z
SUMMARY:Essential West Virginia Case Law for All Cops by Blue to Gold
DESCRIPTION:Law Enforcement Training
Hosted by: Blue to Gold Training

View event details:
https://www.leo-network.com/event/essential-west-virginia-case-law-for-all-cops-by-blue-to-gold-huntington-wv-4795/
LOCATION:Huntington, WV
URL:https://www.leo-network.com/event/essential-west-virginia-case-law-for-all-cops-by-blue-to-gold-huntington-wv-4795/
END:VEVENT
END:VCALENDAR
