BEGIN:VCALENDAR
VERSION:2.0
PRODID:-//LEO Network//Training Calendar//EN
BEGIN:VEVENT
UID:event-4829@leo-network.com
DTSTAMP:20260424T183941Z
DTSTART:20240724T150000Z
DTEND:20240725T000000Z
SUMMARY:Crisis Communication: Skills for De-Escalating Encounters by Blue to Gold
DESCRIPTION:Law Enforcement Training
Hosted by: Blue to Gold Training

View event details:
https://www.leo-network.com/event/crisis-communication-skills-for-de-escalating-encounters-by-blue-to-gold-costa-mesa-ca-4829/
LOCATION:Costa Mesa, CA
URL:https://www.leo-network.com/event/crisis-communication-skills-for-de-escalating-encounters-by-blue-to-gold-costa-mesa-ca-4829/
END:VEVENT
END:VCALENDAR
