BEGIN:VCALENDAR
VERSION:2.0
PRODID:-//LEO Network//Training Calendar//EN
BEGIN:VEVENT
UID:event-4857@leo-network.com
DTSTAMP:20260422T202433Z
DTSTART:20240826T150000Z
DTEND:20240827T000000Z
SUMMARY:Social Media and Open Source Investigations
DESCRIPTION:Law Enforcement Training
Hosted by: Blue to Gold Training

View event details:
https://www.leo-network.com/event/social-media-and-open-source-investigations-peachtree-city-ga-4857/
LOCATION:Peachtree City, GA
URL:https://www.leo-network.com/event/social-media-and-open-source-investigations-peachtree-city-ga-4857/
END:VEVENT
END:VCALENDAR
