BEGIN:VCALENDAR
VERSION:2.0
PRODID:-//LEO Network//Training Calendar//EN
BEGIN:VEVENT
UID:event-4877@leo-network.com
DTSTAMP:20260423T115107Z
DTSTART:20241007T150000Z
DTEND:20241008T000000Z
SUMMARY:Social Media and Open Source Investigations
DESCRIPTION:Law Enforcement Training
Hosted by: Blue to Gold Training

View event details:
https://www.leo-network.com/event/social-media-and-open-source-investigations-marion-nc-4877/
LOCATION:Marion, NC
URL:https://www.leo-network.com/event/social-media-and-open-source-investigations-marion-nc-4877/
END:VEVENT
END:VCALENDAR
