BEGIN:VCALENDAR
VERSION:2.0
PRODID:-//LEO Network//Training Calendar//EN
BEGIN:VEVENT
UID:event-4879@leo-network.com
DTSTAMP:20260422T154941Z
DTSTART:20241023T150000Z
DTEND:20241024T000000Z
SUMMARY:Mastering Advanced Search & Seizure by Blue to Gold
DESCRIPTION:Law Enforcement Training
Hosted by: Blue to Gold Training

View event details:
https://www.leo-network.com/event/mastering-advanced-search-seizure-by-blue-to-gold-topeka-ks-4879/
LOCATION:Topeka, KS
URL:https://www.leo-network.com/event/mastering-advanced-search-seizure-by-blue-to-gold-topeka-ks-4879/
END:VEVENT
END:VCALENDAR
