BEGIN:VCALENDAR
VERSION:2.0
PRODID:-//LEO Network//Training Calendar//EN
BEGIN:VEVENT
UID:event-4880@leo-network.com
DTSTAMP:20260422T161353Z
DTSTART:20241024T150000Z
DTEND:20241025T000000Z
SUMMARY:Advanced Traffic Stops by Blue to Gold
DESCRIPTION:Law Enforcement Training
Hosted by: Blue to Gold Training

View event details:
https://www.leo-network.com/event/advanced-traffic-stops-by-blue-to-gold-topeka-ks-4880/
LOCATION:Topeka, KS
URL:https://www.leo-network.com/event/advanced-traffic-stops-by-blue-to-gold-topeka-ks-4880/
END:VEVENT
END:VCALENDAR
