BEGIN:VCALENDAR
VERSION:2.0
PRODID:-//LEO Network//Training Calendar//EN
BEGIN:VEVENT
UID:event-4895@leo-network.com
DTSTAMP:20260422T154941Z
DTSTART:20240709T150000Z
DTEND:20240710T000000Z
SUMMARY:Advanced Search & Seizure by Blue to Gold
DESCRIPTION:Law Enforcement Training
Hosted by: Blue to Gold Training

View event details:
https://www.leo-network.com/event/advanced-search-seizure-by-blue-to-gold-belton-mo-4895/
LOCATION:Belton, MO
URL:https://www.leo-network.com/event/advanced-search-seizure-by-blue-to-gold-belton-mo-4895/
END:VEVENT
END:VCALENDAR
