BEGIN:VCALENDAR
VERSION:2.0
PRODID:-//LEO Network//Training Calendar//EN
BEGIN:VEVENT
UID:event-4897@leo-network.com
DTSTAMP:20260422T161337Z
DTSTART:20240711T150000Z
DTEND:20240712T000000Z
SUMMARY:Bulletproof Report Writing by Blue to Gold
DESCRIPTION:Law Enforcement Training
Hosted by: Blue to Gold Training

View event details:
https://www.leo-network.com/event/bulletproof-report-writing-by-blue-to-gold-belton-mo-4897/
LOCATION:Belton, MO
URL:https://www.leo-network.com/event/bulletproof-report-writing-by-blue-to-gold-belton-mo-4897/
END:VEVENT
END:VCALENDAR
