BEGIN:VCALENDAR
VERSION:2.0
PRODID:-//LEO Network//Training Calendar//EN
BEGIN:VEVENT
UID:event-4899@leo-network.com
DTSTAMP:20260422T184711Z
DTSTART:20240726T150000Z
DTEND:20240727T000000Z
SUMMARY:Social Media and Open Source Investigations
DESCRIPTION:Law Enforcement Training
Hosted by: Blue to Gold Training

View event details:
https://www.leo-network.com/event/social-media-and-open-source-investigations-universal-city-tx-4899/
LOCATION:Universal City, TX
URL:https://www.leo-network.com/event/social-media-and-open-source-investigations-universal-city-tx-4899/
END:VEVENT
END:VCALENDAR
