BEGIN:VCALENDAR
VERSION:2.0
PRODID:-//LEO Network//Training Calendar//EN
BEGIN:VEVENT
UID:event-4922@leo-network.com
DTSTAMP:20260421T201946Z
DTSTART:20240304T160000Z
DTEND:20240305T010000Z
SUMMARY:New Trends in Obtaining and Mapping Location Data for Police
DESCRIPTION:Law Enforcement Training
Hosted by: Badge Apps LLC

View event details:
https://www.leo-network.com/event/new-trends-in-obtaining-and-mapping-location-data-for-police-nashville-tn-4922/
LOCATION:Nashville, TN
URL:https://www.leo-network.com/event/new-trends-in-obtaining-and-mapping-location-data-for-police-nashville-tn-4922/
END:VEVENT
END:VCALENDAR
