BEGIN:VCALENDAR
VERSION:2.0
PRODID:-//LEO Network//Training Calendar//EN
BEGIN:VEVENT
UID:event-4927@leo-network.com
DTSTAMP:20260425T031452Z
DTSTART:20240402T150000Z
DTEND:20240404T000000Z
SUMMARY:COMMERCIAL MOTOR VEHICLE CRIMINAL INTERDICTION
DESCRIPTION:Law Enforcement Training
Hosted by: Diamondback

View event details:
https://www.leo-network.com/event/commercial-motor-vehicle-criminal-interdiction-newtown-pa-4927/
LOCATION:Newtown, PA
URL:https://www.leo-network.com/event/commercial-motor-vehicle-criminal-interdiction-newtown-pa-4927/
END:VEVENT
END:VCALENDAR
