BEGIN:VCALENDAR
VERSION:2.0
PRODID:-//LEO Network//Training Calendar//EN
BEGIN:VEVENT
UID:event-4942@leo-network.com
DTSTAMP:20260422T231251Z
DTSTART:20241024T150000Z
DTEND:20241025T000000Z
SUMMARY:Body Language for Law Enforcement
DESCRIPTION:Law Enforcement Training
Hosted by: ONEFACE LLC

View event details:
https://www.leo-network.com/event/body-language-for-law-enforcement-manchester-nh-4942/
LOCATION:Manchester, NH
URL:https://www.leo-network.com/event/body-language-for-law-enforcement-manchester-nh-4942/
END:VEVENT
END:VCALENDAR
