BEGIN:VCALENDAR
VERSION:2.0
PRODID:-//LEO Network//Training Calendar//EN
BEGIN:VEVENT
UID:event-4964@leo-network.com
DTSTAMP:20260422T231139Z
DTSTART:20240507T150000Z
DTEND:20240510T000000Z
SUMMARY:Cell Phone Evidence and Investigations
DESCRIPTION:Law Enforcement Training
Hosted by: Legal and Liability Risk Management Institute

View event details:
https://www.leo-network.com/event/cell-phone-evidence-and-investigations-abington-pa-4964/
LOCATION:Abington, PA
URL:https://www.leo-network.com/event/cell-phone-evidence-and-investigations-abington-pa-4964/
END:VEVENT
END:VCALENDAR
